BEGIN:VCALENDAR
VERSION:2.0
PRODID:-//Contratero//ES
CALSCALE:GREGORIAN
METHOD:PUBLISH
BEGIN:VEVENT
UID:2025_002_NSU APLICACION SAGE@contratero.es
DTSTAMP:20260421T192220Z
DTSTART:20250804T235959
DTEND:20250805T005959
SUMMARY:Cierre: Suministro del derecho de acceso a la aplicación S
DESCRIPTION:Suministro del derecho de acceso a la aplicación SAGE 200c utilizada en los sistemas de información de la Mutualidad General Judicial y al soporte técnico y mantenimiento complementario a tal derecho\,...\\n\\nOrganismo: Mutualidad General Judicial MUGEJU\\n\\nVer en Contratero: https://contratero.es/contracts/2025_002_NSU APLICACION SAGE
URL:https://contratero.es/contracts/2025_002_NSU APLICACION SAGE
STATUS:CONFIRMED
BEGIN:VALARM
TRIGGER:-P1D
ACTION:DISPLAY
DESCRIPTION:Recordatorio: Suministro del derecho de acce
END:VALARM
END:VEVENT
END:VCALENDAR